BEGIN:VCALENDAR
VERSION:2.0
PRODID:-//wp-events-plugin.com//7.2.3.1//EN
BEGIN:VEVENT
UID:50@andreapedrazzini.com
DTSTART:20240721T113000Z
DTEND:20240721T123000Z
DTSTAMP:20240110T185549Z
URL:https://andreapedrazzini.com/index.php/events/sonntagsorgelkonzert-in-
 ulmer-munster/
SUMMARY:Sonntagsorgelkonzert in Ulmer Münster
DESCRIPTION:Music by: Bruckner (organ transcription Eberhard Klotz)
ATTACH;FMTTYPE=image/jpeg:https://andreapedrazzini.com/wp-content/uploads/
 2024/01/ulm-scaled.jpeg
CATEGORIES:Organ Récital
LOCATION:Ulmer Münster\, Münsterplatz 1\, Ulm\, 89073\, Germany
X-APPLE-STRUCTURED-LOCATION;VALUE=URI;X-ADDRESS=Münsterplatz 1\, Ulm\, 890
 73\, Germany;X-APPLE-RADIUS=100;X-TITLE=Ulmer Münster:geo:0,0
END:VEVENT
END:VCALENDAR