BEGIN:VCALENDAR
VERSION:2.0
PRODID:-//wp-events-plugin.com//7.2.3.1//EN
BEGIN:VEVENT
UID:11@andreapedrazzini.com
DTSTART:20230513T120000Z
DTEND:20230513T123000Z
DTSTAMP:20230418T015927Z
URL:https://andreapedrazzini.com/index.php/events/midi-musique-murten/
SUMMARY:Midi Musique Murten
DESCRIPTION:Solo récital
ATTACH;FMTTYPE=image/jpeg:https://andreapedrazzini.com/wp-content/uploads/
 2023/03/68616681.jpg
CATEGORIES:Organ Récital
LOCATION:Deutschen Kirche Murten\, Deutsche Kirchgasse 20\, Murten\, 3280\,
  Switzerland
X-APPLE-STRUCTURED-LOCATION;VALUE=URI;X-ADDRESS=Deutsche Kirchgasse 20\, Mu
 rten\, 3280\, Switzerland;X-APPLE-RADIUS=100;X-TITLE=Deutschen Kirche Murt
 en:geo:0,0
END:VEVENT
END:VCALENDAR