BEGIN:VCALENDAR
VERSION:2.0
PRODID:-//wp-events-plugin.com//7.2.3.1//EN
BEGIN:VEVENT
UID:73@andreapedrazzini.com
DTSTART:20251214T170000Z
DTEND:20251214T183000Z
DTSTAMP:20251021T153620Z
URL:https://andreapedrazzini.com/index.php/events/luceat-christmas-concert
 /
SUMMARY:LUCEAT | Christmas Concert
DESCRIPTION:Music by: Sweelinck\, Bach\, Vivaldi\, Mendelssohn\, Brahms\, B
 ruckner\, Leontovych
ATTACH;FMTTYPE=image/jpeg:https://andreapedrazzini.com/wp-content/uploads/
 2025/10/LUAT-LUG-25-44-scaled.jpg
CATEGORIES:Choir and Orchestra
LOCATION:Collegiata S. Antonio\, Piazza S. Antonio\, Locarno\, 6600\, Switz
 erland
X-APPLE-STRUCTURED-LOCATION;VALUE=URI;X-ADDRESS=Piazza S. Antonio\, Locarno
 \, 6600\, Switzerland;X-APPLE-RADIUS=100;X-TITLE=Collegiata S. Antonio:geo
 :0,0
END:VEVENT
END:VCALENDAR