BEGIN:VCALENDAR
VERSION:2.0
PRODID:-//wp-events-plugin.com//7.2.3.1//EN
BEGIN:VEVENT
UID:8@andreapedrazzini.com
DTSTART:20230522T200000Z
DTEND:20230522T213000Z
DTSTAMP:20230303T123602Z
URL:https://andreapedrazzini.com/index.php/events/i-love-you-youre-perfect
 -now-change-7/
SUMMARY:I Love You\, You're Perfect\, Now Change
DESCRIPTION:Musical Direction and Piano. Music by: Joe DiPietro\, Jimmy Rob
 erts
ATTACH;FMTTYPE=image/jpeg:https://andreapedrazzini.com/wp-content/uploads/
 2023/03/320801973_206665998591123_6530599593575949022_n.jpg
CATEGORIES:Piano Musical
LOCATION:Teatro Foce\, Via Foce 1\, Lugano\, 6900\, Switzerland
X-APPLE-STRUCTURED-LOCATION;VALUE=URI;X-ADDRESS=Via Foce 1\, Lugano\, 6900\
 , Switzerland;X-APPLE-RADIUS=100;X-TITLE=Teatro Foce:geo:0,0
END:VEVENT
END:VCALENDAR