BEGIN:VCALENDAR
VERSION:2.0
PRODID:-//wp-events-plugin.com//7.2.3.1//EN
BEGIN:VEVENT
UID:5@andreapedrazzini.com
DTSTART:20230401T170000Z
DTEND:20230401T183000Z
DTSTAMP:20230303T134633Z
URL:https://andreapedrazzini.com/index.php/events/i-love-you-youre-perfect
 -now-change-4/
SUMMARY:I Love You\, You're Perfect\, Now Change
DESCRIPTION:Musical Direction and Piano. Music by: Joe DiPietro\, Jimmy Rob
 erts. 1st performance at 5pm - 2nd performance at 8pm.
ATTACH;FMTTYPE=image/jpeg:https://andreapedrazzini.com/wp-content/uploads/
 2023/03/320801973_206665998591123_6530599593575949022_n.jpg
CATEGORIES:Piano Musical
LOCATION:Il Loft\, Via ai Molini 47\, Losone\, 6616\, Switzerland
X-APPLE-STRUCTURED-LOCATION;VALUE=URI;X-ADDRESS=Via ai Molini 47\, Losone\,
  6616\, Switzerland;X-APPLE-RADIUS=100;X-TITLE=Il Loft:geo:0,0
END:VEVENT
END:VCALENDAR