BEGIN:VCALENDAR
VERSION:2.0
PRODID:-//wp-events-plugin.com//7.2.3.1//EN
BEGIN:VEVENT
UID:3@andreapedrazzini.com
DTSTART:20230325T200000Z
DTEND:20230325T213000Z
DTSTAMP:20230303T122959Z
URL:https://andreapedrazzini.com/index.php/events/i-love-you-youre-perfect
 -now-change-2/
SUMMARY:I Love You\, You're Perfect\, Now Change
DESCRIPTION:Musical Direction and Piano. Music by: Joe DiPietro\, Jimmy Rob
 erts
ATTACH;FMTTYPE=image/jpeg:https://andreapedrazzini.com/wp-content/uploads/
 2023/03/320801973_206665998591123_6530599593575949022_n.jpg
CATEGORIES:Piano Musical
LOCATION:Il Loft\, Via ai Molini 47\, Losone\, 6616\, Switzerland
X-APPLE-STRUCTURED-LOCATION;VALUE=URI;X-ADDRESS=Via ai Molini 47\, Losone\,
  6616\, Switzerland;X-APPLE-RADIUS=100;X-TITLE=Il Loft:geo:0,0
END:VEVENT
END:VCALENDAR