BEGIN:VCALENDAR
VERSION:2.0
PRODID:-//wp-events-plugin.com//7.2.3.1//EN
BEGIN:VEVENT
UID:51@andreapedrazzini.com
DTSTART:20240323T200000Z
DTEND:20240323T213000Z
DTSTAMP:20240307T105631Z
URL:https://andreapedrazzini.com/index.php/events/easter-concert-with-luce
 at-ensemble/
SUMMARY:Easter Concert with Luceat Ensemble
DESCRIPTION:Music by: Bach\, Händel\, Rheinberger\, Fauré
ATTACH;FMTTYPE=image/jpeg:https://andreapedrazzini.com/wp-content/uploads/
 2024/01/DSC02068_small-scaled.jpg
CATEGORIES:Choir and Orchestra
LOCATION:Chiesa di San Giovanni Battista e Provino\, Via Prada 7\, Agno\, S
 witzerland
X-APPLE-STRUCTURED-LOCATION;VALUE=URI;X-ADDRESS=Via Prada 7\, Agno\, Switze
 rland;X-APPLE-RADIUS=100;X-TITLE=Chiesa di San Giovanni Battista e Provino
 :geo:0,0
END:VEVENT
END:VCALENDAR