BEGIN:VCALENDAR
VERSION:2.0
PRODID:-//wp-events-plugin.com//7.2.3.1//EN
BEGIN:VEVENT
UID:56@andreapedrazzini.com
DTSTART:20240823T211500Z
DTEND:20240823T221500Z
DTSTAMP:20240626T231412Z
URL:https://andreapedrazzini.com/index.php/events/concerto-al-festival-ter
 ra-dorgani-antichi-2024/
SUMMARY:Festival “TERRA D’ORGANI ANTICHI” 2024
DESCRIPTION:Music by: Concert program follows
ATTACH;FMTTYPE=image/jpeg:https://andreapedrazzini.com/wp-content/uploads/
 2024/06/e073d1eb-cc0b-49ad-a6c2-85f22093b8a0.png
CATEGORIES:Organ Récital
LOCATION:Chiesa di S. Giusto a San Maroto\, Via San Giusto 32\, Pievebovigl
 iana\, 62035\, Italy
X-APPLE-STRUCTURED-LOCATION;VALUE=URI;X-ADDRESS=Via San Giusto 32\, Pievebo
 vigliana\, 62035\, Italy;X-APPLE-RADIUS=100;X-TITLE=Chiesa di S. Giusto a 
 San Maroto:geo:0,0
END:VEVENT
END:VCALENDAR