BEGIN:VCALENDAR
VERSION:2.0
PRODID:-//wp-events-plugin.com//7.2.3.1//EN
BEGIN:VEVENT
UID:10@andreapedrazzini.com
DTSTART:20230422T203000Z
DTEND:20230422T220000Z
DTSTAMP:20230418T015915Z
URL:https://andreapedrazzini.com/index.php/events/amici-dellorgano-di-sess
 a-monteggio/
SUMMARY:Amici dell'Organo di Sessa-Monteggio
DESCRIPTION:Music by: Bach\, Franck\, Widor\, Mercury/Queen
ATTACH;FMTTYPE=image/jpeg:https://andreapedrazzini.com/wp-content/uploads/
 2023/03/1234.png
CATEGORIES:Organ Récital
LOCATION:Chiesa di San Martino\, Contrada Monsignor Celestino Trezzini 1\, 
 Sessa\, 6997\, Switzerland
X-APPLE-STRUCTURED-LOCATION;VALUE=URI;X-ADDRESS=Contrada Monsignor Celestin
 o Trezzini 1\, Sessa\, 6997\, Switzerland;X-APPLE-RADIUS=100;X-TITLE=Chies
 a di San Martino:geo:0,0
END:VEVENT
END:VCALENDAR